BEGIN:VCALENDAR
VERSION:2.0
PRODID:-//Northern Light Catholic Parish - ECPv6.15.18//NONSGML v1.0//EN
CALSCALE:GREGORIAN
METHOD:PUBLISH
X-WR-CALNAME:Northern Light Catholic Parish
X-ORIGINAL-URL:https://northernlightparish.com.au
X-WR-CALDESC:Events for Northern Light Catholic Parish
REFRESH-INTERVAL;VALUE=DURATION:PT1H
X-Robots-Tag:noindex
X-PUBLISHED-TTL:PT1H
BEGIN:VTIMEZONE
TZID:UTC
BEGIN:STANDARD
TZOFFSETFROM:+0000
TZOFFSETTO:+0000
TZNAME:UTC
DTSTART:20250101T000000
END:STANDARD
END:VTIMEZONE
BEGIN:VEVENT
DTSTART;TZID=UTC:20260402T190000
DTEND;TZID=UTC:20260405T110000
DTSTAMP:20260416T163710
CREATED:20260312T052459Z
LAST-MODIFIED:20260312T052459Z
UID:356480-1775156400-1775386800@northernlightparish.com.au
SUMMARY:Easter Mass Times
DESCRIPTION:Easter Times Poster
URL:https://northernlightparish.com.au/event/easter-mass-times/
END:VEVENT
END:VCALENDAR